BEGIN:VCALENDAR
VERSION:2.0
PRODID:-//CJCB - ECPv4.6.26//NONSGML v1.0//EN
CALSCALE:GREGORIAN
METHOD:PUBLISH
X-WR-CALNAME:CJCB
X-ORIGINAL-URL:https://cjcbradio.com
X-WR-CALDESC:Events for CJCB
BEGIN:VEVENT
DTSTART;TZID=America/Halifax:20240115T180000
DTEND;TZID=America/Halifax:20240115T190000
DTSTAMP:20260425T120459
CREATED:20231214T191826Z
LAST-MODIFIED:20231214T191826Z
UID:9454-1705341600-1705345200@cjcbradio.com
SUMMARY:Pokemon Club
DESCRIPTION:Glace Bay Library \nMon Jan 15 \n6 – 7 \nGotta Catch Em All! Join us for our pokemon club\, play the game and make some friends. \n\n
URL:https://cjcbradio.com/event/pokemon-club-4/
END:VEVENT
END:VCALENDAR