BEGIN:VCALENDAR
VERSION:2.0
PRODID:-//CJCB - ECPv4.6.26//NONSGML v1.0//EN
CALSCALE:GREGORIAN
METHOD:PUBLISH
X-WR-CALNAME:CJCB
X-ORIGINAL-URL:https://cjcbradio.com
X-WR-CALDESC:Events for CJCB
BEGIN:VEVENT
DTSTART;TZID=America/Halifax:20250822T140000
DTEND;TZID=America/Halifax:20250822T150000
DTSTAMP:20260425T150704
CREATED:20250623T142643Z
LAST-MODIFIED:20250623T142643Z
UID:10295-1755871200-1755874800@cjcbradio.com
SUMMARY:Popsicle Crafternoon
DESCRIPTION:Glace Bay Library \nFri Aug 22    2-3pm \nIt’s the last splash of summer! Come make a popsicle craft! \n
URL:https://cjcbradio.com/event/popsicle-crafternoon/
END:VEVENT
END:VCALENDAR