BEGIN:VCALENDAR
VERSION:2.0
PRODID:-//CJCB - ECPv4.6.26//NONSGML v1.0//EN
CALSCALE:GREGORIAN
METHOD:PUBLISH
X-WR-CALNAME:CJCB
X-ORIGINAL-URL:https://cjcbradio.com
X-WR-CALDESC:Events for CJCB
BEGIN:VEVENT
DTSTART;TZID=America/Halifax:20251213T140000
DTEND;TZID=America/Halifax:20251213T160000
DTSTAMP:20260421T124751
CREATED:20251211T161016Z
LAST-MODIFIED:20251211T161016Z
UID:10526-1765634400-1765641600@cjcbradio.com
SUMMARY:Port Morien Country Market
DESCRIPTION:The Port Morien Country Market will be held on Saturday\, December 13th from 2 to 4 p.m. at the Port Morien Legion\, RCL Br. 055. There will be a flea market downstairs and vendors and bake table upstairs. The canteen will be open for beverages\, baked sweets and french fries. \n
URL:https://cjcbradio.com/event/port-morien-country-market-4/
END:VEVENT
END:VCALENDAR