BEGIN:VCALENDAR
VERSION:2.0
PRODID:-//CJCB - ECPv4.6.26//NONSGML v1.0//EN
CALSCALE:GREGORIAN
METHOD:PUBLISH
X-WR-CALNAME:CJCB
X-ORIGINAL-URL:https://cjcbradio.com
X-WR-CALDESC:Events for CJCB
BEGIN:VEVENT
DTSTART;VALUE=DATE:20180927
DTEND;VALUE=DATE:20180928
DTSTAMP:20260419T154430
CREATED:20180918T172230Z
LAST-MODIFIED:20180918T172230Z
UID:4821-1538006400-1538092799@cjcbradio.com
SUMMARY:Re-Connecting with Nature Workshop
DESCRIPTION:Re-Connecting with Nature Workshop Sydney Sept. 27 (pls post by Sept. 17) The Re-Connecting with Nature workshop is a hands-on day of adventure for adults to improve their ability to lead and share an appreciation and understanding of nature with children and youth. It will take place in Sydney on September 27 (register by Sept. 20). Learn more and register at www.hikenovascotia.ca. \n
URL:https://cjcbradio.com/event/re-connecting-with-nature-workshop-2/
END:VEVENT
END:VCALENDAR