BEGIN:VCALENDAR
VERSION:2.0
PRODID:-//CJCB - ECPv4.6.26//NONSGML v1.0//EN
CALSCALE:GREGORIAN
METHOD:PUBLISH
X-WR-CALNAME:CJCB
X-ORIGINAL-URL:https://cjcbradio.com
X-WR-CALDESC:Events for CJCB
BEGIN:VEVENT
DTSTART;TZID=America/Halifax:20230322T183000
DTEND;TZID=America/Halifax:20230322T193000
DTSTAMP:20260423T040503
CREATED:20230227T150449Z
LAST-MODIFIED:20230227T150449Z
UID:8933-1679509800-1679513400@cjcbradio.com
SUMMARY:Recipe Exchange
DESCRIPTION:Glace Bay Library \nWed March 22 \n6:30 – 7:30pm \nDrop in and exchange recipes of your favorite soups and stews. \n  \n
URL:https://cjcbradio.com/event/recipe-exchange/
END:VEVENT
END:VCALENDAR