BEGIN:VCALENDAR
VERSION:2.0
PRODID:-//CJCB - ECPv4.6.26//NONSGML v1.0//EN
CALSCALE:GREGORIAN
METHOD:PUBLISH
X-WR-CALNAME:CJCB
X-ORIGINAL-URL:https://cjcbradio.com
X-WR-CALDESC:Events for CJCB
BEGIN:VEVENT
DTSTART;TZID=America/Halifax:20230323T093000
DTEND;TZID=America/Halifax:20230323T113000
DTSTAMP:20260422T140122
CREATED:20230317T180213Z
LAST-MODIFIED:20230317T180213Z
UID:8962-1679563800-1679571000@cjcbradio.com
SUMMARY:Recruitment Info Session
DESCRIPTION:Join YMCA of Cape Breton/Nova Scotia Works for an information session on Thursday\, March 23rd for a Recruitment Information Session from 9:30 am to 11:30 am at the Eltuek Arts Centre\, 170 George Street\, Sydney – Gallery 211. \nConnect with HR Advisors and Recruiters from Public Service Commission of Canada\, CBRM\, The Army Reserves. Candidates are required to be a Canadian Citizen or Permanent Resident. \nInterested persons can register on Eventbrite – www.eventbrite.ca and search for Nova Scotia Works \n
URL:https://cjcbradio.com/event/recruitment-info-session/
END:VEVENT
END:VCALENDAR