BEGIN:VCALENDAR
VERSION:2.0
PRODID:-//CJCB - ECPv4.6.26//NONSGML v1.0//EN
CALSCALE:GREGORIAN
METHOD:PUBLISH
X-WR-CALNAME:CJCB
X-ORIGINAL-URL:https://cjcbradio.com
X-WR-CALDESC:Events for CJCB
BEGIN:VEVENT
DTSTART;TZID=America/Halifax:20230316T160000
DTEND;TZID=America/Halifax:20230316T170000
DTSTAMP:20260422T151549
CREATED:20230227T150042Z
LAST-MODIFIED:20230227T150042Z
UID:8927-1678982400-1678986000@cjcbradio.com
SUMMARY:Robots In Motion
DESCRIPTION:Glace Bay Library \nThurs March 16 \n4pm – 5pm \nWhat can Gears and rubber bands do? Why\, make robots of course! \nWhat to find out how? Call us and register! \nRegistration is required. Please contact ewilliams@cbrl.ca or ajessome@cbrl.ca to register. \n  \n
URL:https://cjcbradio.com/event/robots-in-motion/
END:VEVENT
END:VCALENDAR