BEGIN:VCALENDAR
VERSION:2.0
PRODID:-//CJCB - ECPv4.6.26//NONSGML v1.0//EN
CALSCALE:GREGORIAN
METHOD:PUBLISH
X-WR-CALNAME:CJCB
X-ORIGINAL-URL:https://cjcbradio.com
X-WR-CALDESC:Events for CJCB
BEGIN:VEVENT
DTSTART;TZID=America/Halifax:20241017T180000
DTEND;TZID=America/Halifax:20241017T193000
DTSTAMP:20260422T153648
CREATED:20241008T150009Z
LAST-MODIFIED:20241008T150009Z
UID:9942-1729188000-1729193400@cjcbradio.com
SUMMARY:Roller Derby 101
DESCRIPTION:Join us at the McConnell library for a screening of the short doc “Skate Fast & Hit Hard” followed by a Q and A with some members of Island District Roller Derby.\nWe will answer all your Derby questions and have information about our upcoming Learn to Skate and how you can be part of our growing team. \n
URL:https://cjcbradio.com/event/roller-derby-101/
END:VEVENT
END:VCALENDAR