BEGIN:VCALENDAR
VERSION:2.0
PRODID:-//CJCB - ECPv4.6.26//NONSGML v1.0//EN
CALSCALE:GREGORIAN
METHOD:PUBLISH
X-WR-CALNAME:CJCB
X-ORIGINAL-URL:https://cjcbradio.com
X-WR-CALDESC:Events for CJCB
BEGIN:VEVENT
DTSTART;TZID=America/Halifax:20190609T090000
DTEND;TZID=America/Halifax:20190609T110000
DTSTAMP:20260423T235259
CREATED:20190424T181442Z
LAST-MODIFIED:20190424T181442Z
UID:5346-1560070800-1560078000@cjcbradio.com
SUMMARY:Ronald McDonald House PJ Walk for Kids
DESCRIPTION:Ronald McDonald House Charity Atlantic PJ Walk for kids June 9th Open Hearth Park 180 Ferry Street Sydney. Pancake breakfast and lots of fun 9am-11am. Come support Ronald McDonald House \nThis is the first year for this in Sydney they are branching out since so many families come from Cape Breton to stay at the house. I am hoping you can give it a little push as it gets closer to the event \n
URL:https://cjcbradio.com/event/ronald-mcdonald-house-pj-walk-for-kids/
END:VEVENT
END:VCALENDAR