BEGIN:VCALENDAR
VERSION:2.0
PRODID:-//CJCB - ECPv4.6.26//NONSGML v1.0//EN
CALSCALE:GREGORIAN
METHOD:PUBLISH
X-WR-CALNAME:CJCB
X-ORIGINAL-URL:https://cjcbradio.com
X-WR-CALDESC:Events for CJCB
BEGIN:VEVENT
DTSTART;VALUE=DATE:20250807
DTEND;VALUE=DATE:20250808
DTSTAMP:20260425T180755
CREATED:20250801T152138Z
LAST-MODIFIED:20250801T152138Z
UID:10335-1754524800-1754611199@cjcbradio.com
SUMMARY:Scotchtown Volunteer Fire Dept. Meeting/Recruitment Drive
DESCRIPTION:Attention residents of Scotchtown\, Lingan and River Ryan we will be holding a public meeting/recruitment drive at our station on Thursday August 7th at 7:00pm the more people in attendance the better! We hope to see you all there. \n
URL:https://cjcbradio.com/event/scotchtown-volunteer-fire-dept-meeting-recruitment-drive/
END:VEVENT
END:VCALENDAR