BEGIN:VCALENDAR
VERSION:2.0
PRODID:-//CJCB - ECPv4.6.26//NONSGML v1.0//EN
CALSCALE:GREGORIAN
METHOD:PUBLISH
X-WR-CALNAME:CJCB
X-ORIGINAL-URL:https://cjcbradio.com
X-WR-CALDESC:Events for CJCB
BEGIN:VEVENT
DTSTART;TZID=America/Halifax:20230124T103000
DTEND;TZID=America/Halifax:20230124T120000
DTSTAMP:20260424T100815
CREATED:20221230T152315Z
LAST-MODIFIED:20221230T152315Z
UID:8791-1674556200-1674561600@cjcbradio.com
SUMMARY:Seniors Art Day
DESCRIPTION:Where:  Glace Bay Library \nWhen:  January 24th from 10:30am-12pm \nSeniors Art Day – Painted Penguins. \nRegistration required as space is limited. \n902-849-8657 \n
URL:https://cjcbradio.com/event/seniors-art-day/
END:VEVENT
END:VCALENDAR