BEGIN:VCALENDAR
VERSION:2.0
PRODID:-//CJCB - ECPv4.6.26//NONSGML v1.0//EN
CALSCALE:GREGORIAN
METHOD:PUBLISH
X-WR-CALNAME:CJCB
X-ORIGINAL-URL:https://cjcbradio.com
X-WR-CALDESC:Events for CJCB
BEGIN:VEVENT
DTSTART;TZID=America/Halifax:20190215T103000
DTEND;TZID=America/Halifax:20190215T133000
DTSTAMP:20260425T225123
CREATED:20190212T192302Z
LAST-MODIFIED:20190212T192302Z
UID:5182-1550226600-1550237400@cjcbradio.com
SUMMARY:Senior's Brunch
DESCRIPTION:Town House is having a Senior’s Brunch Friday\, February 15th\, 2019 at 10:30.  It will be held at St. Mary’s Hall on Marconi St.\, Glace Bay.  Silver Collection at the door. Please call Town House to hold your seat as seating is limited 902-849-2449 😊 \n
URL:https://cjcbradio.com/event/seniors-brunch-5/
END:VEVENT
END:VCALENDAR