BEGIN:VCALENDAR
VERSION:2.0
PRODID:-//CJCB - ECPv4.6.26//NONSGML v1.0//EN
CALSCALE:GREGORIAN
METHOD:PUBLISH
X-WR-CALNAME:CJCB
X-ORIGINAL-URL:https://cjcbradio.com
X-WR-CALDESC:Events for CJCB
BEGIN:VEVENT
DTSTART;TZID=America/Halifax:20250725T140000
DTEND;TZID=America/Halifax:20250725T150000
DTSTAMP:20260425T192236
CREATED:20250623T141817Z
LAST-MODIFIED:20250623T141817Z
UID:10282-1753452000-1753455600@cjcbradio.com
SUMMARY:Shark Crafternoon
DESCRIPTION:Glace Bay Library \nFri July 25 \n2 – 3pm \nDrop in and make your very own shark! \n
URL:https://cjcbradio.com/event/shark-crafternoon/
END:VEVENT
END:VCALENDAR