BEGIN:VCALENDAR
VERSION:2.0
PRODID:-//CJCB - ECPv4.6.26//NONSGML v1.0//EN
CALSCALE:GREGORIAN
METHOD:PUBLISH
X-WR-CALNAME:CJCB
X-ORIGINAL-URL:https://cjcbradio.com
X-WR-CALDESC:Events for CJCB
BEGIN:VEVENT
DTSTART;TZID=UTC+0:20171013T183000
DTEND;TZID=UTC+0:20171013T200000
DTSTAMP:20260421T051654
CREATED:20171003T165640Z
LAST-MODIFIED:20171003T165640Z
UID:1058-1507919400-1507924800@cjcbradio.com
SUMMARY:Sign Language Classes
DESCRIPTION:Want to learn sign language? An American Sign Language course is being offered on Thursdays from 6:30 – 8:00pm for 6 weeks beginning October 19. Cost – $125.00 Deadline for registration is October 13/2017. For more information or to register call Society of Deaf and Hard of Hearing at 564-0003. \n
URL:https://cjcbradio.com/event/sign-language-classes/
END:VEVENT
END:VCALENDAR