BEGIN:VCALENDAR
VERSION:2.0
PRODID:-//CJCB - ECPv4.6.26//NONSGML v1.0//EN
CALSCALE:GREGORIAN
METHOD:PUBLISH
X-WR-CALNAME:CJCB
X-ORIGINAL-URL:https://cjcbradio.com
X-WR-CALDESC:Events for CJCB
BEGIN:VEVENT
DTSTART;TZID=America/Halifax:20250715T140000
DTEND;TZID=America/Halifax:20250715T150000
DTSTAMP:20260424T132223
CREATED:20250623T141451Z
LAST-MODIFIED:20250623T141451Z
UID:10277-1752588000-1752591600@cjcbradio.com
SUMMARY:Snap-Circuits
DESCRIPTION:Glace Bay Library \nTuesday July 15 \n2 – 3pm \nSnap into action and light up your own circuits!  Registration Required.  Please call 902-849-8657 or email glacebay@cbrl.ca to reserve your spot. \n
URL:https://cjcbradio.com/event/snap-circuits-2/
END:VEVENT
END:VCALENDAR