BEGIN:VCALENDAR
VERSION:2.0
PRODID:-//CJCB - ECPv4.6.26//NONSGML v1.0//EN
CALSCALE:GREGORIAN
METHOD:PUBLISH
X-WR-CALNAME:CJCB
X-ORIGINAL-URL:https://cjcbradio.com
X-WR-CALDESC:Events for CJCB
BEGIN:VEVENT
DTSTART;TZID=America/Halifax:20190222T180000
DTEND;TZID=America/Halifax:20190222T200000
DTSTAMP:20260423T123324
CREATED:20190206T184809Z
LAST-MODIFIED:20190206T184809Z
UID:5163-1550858400-1550865600@cjcbradio.com
SUMMARY:Snowshoe Hike
DESCRIPTION:West Mabou Trails Hike: Feb. 22\nHike Nova Scotia and the West Mabou Sports Club present a guided snowshoe hike in West Mabou on February 22 at 6 pm (hike if no snow). You must pre-register at nhunt861@gmail.com (must request snowshoes or bring own). Qualify to win a trail prize. See www.hikenovascotia.ca for details. \n
URL:https://cjcbradio.com/event/snowshoe-hike-3/
END:VEVENT
END:VCALENDAR