BEGIN:VCALENDAR
VERSION:2.0
PRODID:-//CJCB - ECPv4.6.26//NONSGML v1.0//EN
CALSCALE:GREGORIAN
METHOD:PUBLISH
X-WR-CALNAME:CJCB
X-ORIGINAL-URL:https://cjcbradio.com
X-WR-CALDESC:Events for CJCB
BEGIN:VEVENT
DTSTART;TZID=America/Halifax:20190209T130000
DTEND;TZID=America/Halifax:20190209T160000
DTSTAMP:20260424T100652
CREATED:20190121T181422Z
LAST-MODIFIED:20190121T181422Z
UID:5133-1549717200-1549728000@cjcbradio.com
SUMMARY:Snowshoe Hike
DESCRIPTION:Judique Snowshoe Hike: Feb. 9\nHike Nova Scotia and the International Appalachian Trail-NS present a guided hike in Judique on February 9 at 1 pm. You must pre-register at 902-625-2899 or blaise45@hotmail.com. Bring your own snowshoes (will be a hike if no snow). Qualify to win a trail prize. See www.hikenovascotia.ca for details. \n
URL:https://cjcbradio.com/event/snowshoe-hike/
END:VEVENT
END:VCALENDAR