BEGIN:VCALENDAR
VERSION:2.0
PRODID:-//CJCB - ECPv4.6.26//NONSGML v1.0//EN
CALSCALE:GREGORIAN
METHOD:PUBLISH
X-WR-CALNAME:CJCB
X-ORIGINAL-URL:https://cjcbradio.com
X-WR-CALDESC:Events for CJCB
BEGIN:VEVENT
DTSTART;TZID=UTC+0:20170425T183000
DTEND;TZID=UTC+0:20170425T200000
DTSTAMP:20260422T091233
CREATED:20170419T161148Z
LAST-MODIFIED:20170419T161148Z
UID:533-1493145000-1493150400@cjcbradio.com
SUMMARY:SOS (Survivors Of Suicide) Meeting
DESCRIPTION:SOS (Survivors of Suicide) Cape Breton support group on Tuesday\, April 25\, 6:30pm at 188 George Street\, Sydney. Anyone who is mourning the loss of someone who died by suicide is welcome. \n
URL:https://cjcbradio.com/event/sos-survivors-of-suicide-meeting/
END:VEVENT
END:VCALENDAR