BEGIN:VCALENDAR
VERSION:2.0
PRODID:-//CJCB - ECPv4.6.26//NONSGML v1.0//EN
CALSCALE:GREGORIAN
METHOD:PUBLISH
X-WR-CALNAME:CJCB
X-ORIGINAL-URL:https://cjcbradio.com
X-WR-CALDESC:Events for CJCB
BEGIN:VEVENT
DTSTART;TZID=America/Halifax:20230313T153000
DTEND;TZID=America/Halifax:20230313T173000
DTSTAMP:20260423T101802
CREATED:20230227T145656Z
LAST-MODIFIED:20230227T145656Z
UID:8922-1678721400-1678728600@cjcbradio.com
SUMMARY:Sound Art with CBU Art on Wheels
DESCRIPTION:Glace Bay Library \nMon March 13 \n3:30pm – 5:30pm \nNo-Input Mixing and Sound Art Collage: This workshop explores \nexperimental sound-making and recording techniques using mixing boards\, digital \nrecorders and digital audio workstations to create audio collages and compositions. \nFor Ages 12+ \nRegistration required.  Please contact ewilliams@cbrl.ca or ajessome@cbrl.ca to register \n  \n
URL:https://cjcbradio.com/event/sound-art-with-cbu-art-on-wheels/
END:VEVENT
END:VCALENDAR