BEGIN:VCALENDAR
VERSION:2.0
PRODID:-//CJCB - ECPv4.6.26//NONSGML v1.0//EN
CALSCALE:GREGORIAN
METHOD:PUBLISH
X-WR-CALNAME:CJCB
X-ORIGINAL-URL:https://cjcbradio.com
X-WR-CALDESC:Events for CJCB
BEGIN:VEVENT
DTSTART;TZID=UTC+0:20170506T130000
DTEND;TZID=UTC+0:20170506T150000
DTSTAMP:20260424T114210
CREATED:20170504T151506Z
LAST-MODIFIED:20170504T151506Z
UID:619-1494075600-1494082800@cjcbradio.com
SUMMARY:Spring Dessert Tea and Sale
DESCRIPTION:The Little Narrows Presbyterian Ladies Aid will host its annual spring dessert tea and sale on Saturday\, May 6th 1-3 pm in the church hall. Hope you can join us. \n
URL:https://cjcbradio.com/event/spring-dessert-tea-and-sale/
END:VEVENT
END:VCALENDAR