BEGIN:VCALENDAR
VERSION:2.0
PRODID:-//CJCB - ECPv4.6.26//NONSGML v1.0//EN
CALSCALE:GREGORIAN
METHOD:PUBLISH
X-WR-CALNAME:CJCB
X-ORIGINAL-URL:https://cjcbradio.com
X-WR-CALDESC:Events for CJCB
BEGIN:VEVENT
DTSTART;TZID=UTC+0:20170518T160000
DTEND;TZID=UTC+0:20170518T180000
DTSTAMP:20260422T201131
CREATED:20170505T204119Z
LAST-MODIFIED:20170505T204119Z
UID:631-1495123200-1495130400@cjcbradio.com
SUMMARY:Spring Tea
DESCRIPTION:Spring Tea at Warden United Church\, New Aberdeen on May 18th from 4 PM – 6 PM.  $7 per person\, eat in or take-out.  Sponsored by United Church UCW \n
URL:https://cjcbradio.com/event/spring-tea/
END:VEVENT
END:VCALENDAR