BEGIN:VCALENDAR
VERSION:2.0
PRODID:-//CJCB - ECPv4.6.26//NONSGML v1.0//EN
CALSCALE:GREGORIAN
METHOD:PUBLISH
X-WR-CALNAME:CJCB
X-ORIGINAL-URL:https://cjcbradio.com
X-WR-CALDESC:Events for CJCB
BEGIN:VEVENT
DTSTART;TZID=America/Halifax:20190216T190000
DTEND;TZID=America/Halifax:20190216T220000
DTSTAMP:20260422T140100
CREATED:20190214T150857Z
LAST-MODIFIED:20190214T150857Z
UID:5187-1550343600-1550354400@cjcbradio.com
SUMMARY:Square Dance
DESCRIPTION:On Saturday\, February 16th\, there is an all-ages Square Dance at the Marion Bridge Community Hall – from 7:00pm until 10:00pm – 3921 Gaberus Hwy in Marion Bridge – less than a 20 minute drive from Sydney. \nMusic provided by Doug Lamey on fiddle & Special Guest on piano \nNo experience necessary. Everyone welcome. \nEnjoy the music\, have fun. \nAdmission at the Door\nAdults $10\, Youth 19 & Under $5\nFamily $25 / 2 Adults and up to 5 Children \n
URL:https://cjcbradio.com/event/square-dance/
END:VEVENT
END:VCALENDAR