BEGIN:VCALENDAR
VERSION:2.0
PRODID:-//CJCB - ECPv4.6.26//NONSGML v1.0//EN
CALSCALE:GREGORIAN
METHOD:PUBLISH
X-WR-CALNAME:CJCB
X-ORIGINAL-URL:https://cjcbradio.com
X-WR-CALDESC:Events for CJCB
BEGIN:VEVENT
DTSTART;TZID=America/Halifax:20250717T140000
DTEND;TZID=America/Halifax:20250717T150000
DTSTAMP:20260425T192226
CREATED:20250623T141609Z
LAST-MODIFIED:20250623T141609Z
UID:10279-1752760800-1752764400@cjcbradio.com
SUMMARY:Squishy Circuits
DESCRIPTION:Glace Bay Library \nThurs July 17 \n2 – 3pm \nGet creative with playdough and currents.  Create and learn with Squishy circuits.  Registration Required.  Please call 902-849-8657 or email glacebay@cbrl.ca to reserve your spot. \n
URL:https://cjcbradio.com/event/squishy-circuits/
END:VEVENT
END:VCALENDAR