BEGIN:VCALENDAR
VERSION:2.0
PRODID:-//CJCB - ECPv4.6.26//NONSGML v1.0//EN
CALSCALE:GREGORIAN
METHOD:PUBLISH
X-WR-CALNAME:CJCB
X-ORIGINAL-URL:https://cjcbradio.com
X-WR-CALDESC:Events for CJCB
BEGIN:VEVENT
DTSTART;TZID=America/Halifax:20250927T100000
DTEND;TZID=America/Halifax:20250927T140000
DTSTAMP:20260422T170551
CREATED:20250915T160129Z
LAST-MODIFIED:20250915T160129Z
UID:10401-1758967200-1758981600@cjcbradio.com
SUMMARY:St. Joseph Fall Fair
DESCRIPTION:St. Joseph Parish Hall\, 34 Archibald Ave. North Sydney is holding their fall fair on Sunday\, September 27th from 10am until 2pm.  There will be a flea market\, bake sale\, crafts\, ticket draws\, a toy table for kids along with grab bags.  They will also be offering a Pulled BBQ Chicken Burger with Dessert for just $10 eat in or take out.  It will be fun for the whole family.  Come and enjoy a fun day!!! \n  \n
URL:https://cjcbradio.com/event/st-joseph-fall-fair/
END:VEVENT
END:VCALENDAR