BEGIN:VCALENDAR
VERSION:2.0
PRODID:-//CJCB - ECPv4.6.26//NONSGML v1.0//EN
CALSCALE:GREGORIAN
METHOD:PUBLISH
X-WR-CALNAME:CJCB
X-ORIGINAL-URL:https://cjcbradio.com
X-WR-CALDESC:Events for CJCB
BEGIN:VEVENT
DTSTART;TZID=America/Halifax:20240713T150000
DTEND;TZID=America/Halifax:20240713T170000
DTSTAMP:20260421T071436
CREATED:20240618T162151Z
LAST-MODIFIED:20240618T162151Z
UID:9742-1720882800-1720890000@cjcbradio.com
SUMMARY:STRAWBERRY FESTIVAL
DESCRIPTION:July 13th 2024 \n3-5 PM \n$12.00 per person \nLoch Lomond Community Centre \nLoch Lomond Volunteer Fire Dept. \n
URL:https://cjcbradio.com/event/strawberry-festival-9/
END:VEVENT
END:VCALENDAR