BEGIN:VCALENDAR
VERSION:2.0
PRODID:-//CJCB - ECPv4.6.26//NONSGML v1.0//EN
CALSCALE:GREGORIAN
METHOD:PUBLISH
X-WR-CALNAME:CJCB
X-ORIGINAL-URL:https://cjcbradio.com
X-WR-CALDESC:Events for CJCB
BEGIN:VEVENT
DTSTART;VALUE=DATE:20230611
DTEND;VALUE=DATE:20230612
DTSTAMP:20260423T162413
CREATED:20230523T123158Z
LAST-MODIFIED:20230523T123158Z
UID:9090-1686441600-1686527999@cjcbradio.com
SUMMARY:Sun Life Walk to Cure Diabetes
DESCRIPTION:The Sun Life Walk to Cure Diabetes for JDRF is the largest fundraising event in Canada supporting type 1 diabetes (T1D) research. This year\, we are pleased to announce we have an official walk happening here in Cape Breton! Register online at jdrfwalk.ca and join us on June 11 to support kids and adults living with T1D.\nLocation: Petersfield Park\, Westmount\nRegistration: 1pm Walk: 1:30pm \n
URL:https://cjcbradio.com/event/sun-life-walk-to-cure-diabetes/
END:VEVENT
END:VCALENDAR