BEGIN:VCALENDAR
VERSION:2.0
PRODID:-//CJCB - ECPv4.6.26//NONSGML v1.0//EN
CALSCALE:GREGORIAN
METHOD:PUBLISH
X-WR-CALNAME:CJCB
X-ORIGINAL-URL:https://cjcbradio.com
X-WR-CALDESC:Events for CJCB
BEGIN:VEVENT
DTSTART;TZID=America/Halifax:20190922T133000
DTEND;TZID=America/Halifax:20190922T163000
DTSTAMP:20260422T231027
CREATED:20190912T185231Z
LAST-MODIFIED:20190912T185231Z
UID:5767-1569159000-1569169800@cjcbradio.com
SUMMARY:Sunday Social
DESCRIPTION:Sunday\, September 22\, 1:30-4:30 pm Sunday Social  at the Steelworkers and Sydney Pensioners Club. Music by First Choice\, lunch served. All welcome. \n
URL:https://cjcbradio.com/event/sunday-social-2/
END:VEVENT
END:VCALENDAR