BEGIN:VCALENDAR
VERSION:2.0
PRODID:-//CJCB - ECPv4.6.26//NONSGML v1.0//EN
CALSCALE:GREGORIAN
METHOD:PUBLISH
X-WR-CALNAME:CJCB
X-ORIGINAL-URL:https://cjcbradio.com
X-WR-CALDESC:Events for CJCB
BEGIN:VEVENT
DTSTART;TZID=America/Halifax:20230128T100000
DTEND;TZID=America/Halifax:20230128T130000
DTSTAMP:20260424T143841
CREATED:20221230T165734Z
LAST-MODIFIED:20221230T165734Z
UID:8793-1674900000-1674910800@cjcbradio.com
SUMMARY:Super Saturday at Glace Bay Library
DESCRIPTION:Come in to the Glace Bay Library on Super Saturday\, January 28th from 10am-1pm.  Make your own mini book to celebrate Family Literacy Day. \n
URL:https://cjcbradio.com/event/super-saturday-at-glace-bay-library/
END:VEVENT
END:VCALENDAR