BEGIN:VCALENDAR
VERSION:2.0
PRODID:-//CJCB - ECPv4.6.26//NONSGML v1.0//EN
CALSCALE:GREGORIAN
METHOD:PUBLISH
X-WR-CALNAME:CJCB
X-ORIGINAL-URL:https://cjcbradio.com
X-WR-CALDESC:Events for CJCB
BEGIN:VEVENT
DTSTART;TZID=America/Halifax:20260509T100000
DTEND;TZID=America/Halifax:20260509T110000
DTSTAMP:20260420T231850
CREATED:20260420T175315Z
LAST-MODIFIED:20260420T175315Z
UID:10710-1778320800-1778324400@cjcbradio.com
SUMMARY:Super Saturday: Mothers Day Card
DESCRIPTION:Glace Bay Library \nSat May 9   10-11am \nMake a Hap-Pea Mother’s day card \n  \n
URL:https://cjcbradio.com/event/super-saturday-mothers-day-card-2/
END:VEVENT
END:VCALENDAR