BEGIN:VCALENDAR
VERSION:2.0
PRODID:-//CJCB - ECPv4.6.26//NONSGML v1.0//EN
CALSCALE:GREGORIAN
METHOD:PUBLISH
X-WR-CALNAME:CJCB
X-ORIGINAL-URL:https://cjcbradio.com
X-WR-CALDESC:Events for CJCB
BEGIN:VEVENT
DTSTART;TZID=America/Halifax:20230218T100000
DTEND;TZID=America/Halifax:20230218T120000
DTSTAMP:20260422T181440
CREATED:20230217T185239Z
LAST-MODIFIED:20230217T185253Z
UID:8895-1676714400-1676721600@cjcbradio.com
SUMMARY:Super Saturday – Move and Groove
DESCRIPTION:Sat Feb 18\n10am – 12pm\nGlace Bay Library\nDrop in and move and groove with stories\, songs\, rhythm\, and more \n
URL:https://cjcbradio.com/event/super-saturday-move-and-groove/
END:VEVENT
END:VCALENDAR