BEGIN:VCALENDAR
VERSION:2.0
PRODID:-//CJCB - ECPv4.6.26//NONSGML v1.0//EN
CALSCALE:GREGORIAN
METHOD:PUBLISH
X-WR-CALNAME:CJCB
X-ORIGINAL-URL:https://cjcbradio.com
X-WR-CALDESC:Events for CJCB
BEGIN:VEVENT
DTSTART;TZID=America/Halifax:20230114T100000
DTEND;TZID=America/Halifax:20230114T130000
DTSTAMP:20260421T043942
CREATED:20221230T144034Z
LAST-MODIFIED:20221230T144034Z
UID:8782-1673690400-1673701200@cjcbradio.com
SUMMARY:Super Saturday String Games
DESCRIPTION:Drop in to the Glace Bay Library on January 14th from 10am – 1pm to play string games. \n
URL:https://cjcbradio.com/event/super-saturday-string-games/
END:VEVENT
END:VCALENDAR