BEGIN:VCALENDAR
VERSION:2.0
PRODID:-//CJCB - ECPv4.6.26//NONSGML v1.0//EN
CALSCALE:GREGORIAN
METHOD:PUBLISH
X-WR-CALNAME:CJCB
X-ORIGINAL-URL:https://cjcbradio.com
X-WR-CALDESC:Events for CJCB
BEGIN:VEVENT
DTSTART;TZID=America/Halifax:20241012T100000
DTEND;TZID=America/Halifax:20241012T140000
DTSTAMP:20260424T114134
CREATED:20241008T122642Z
LAST-MODIFIED:20241008T122642Z
UID:9918-1728727200-1728741600@cjcbradio.com
SUMMARY:Super Saturday: Turkey Craft
DESCRIPTION:Glace Bay Library \nSaturday Oct 12 \n10-2pm \nGobble Gobble!  It’s turkey craft time! Gobble Gobble!  It’s turkey craft time! \n  \n  \n
URL:https://cjcbradio.com/event/super-saturday-turkey-craft/
END:VEVENT
END:VCALENDAR