BEGIN:VCALENDAR
VERSION:2.0
PRODID:-//CJCB - ECPv4.6.26//NONSGML v1.0//EN
CALSCALE:GREGORIAN
METHOD:PUBLISH
X-WR-CALNAME:CJCB
X-ORIGINAL-URL:https://cjcbradio.com
X-WR-CALDESC:Events for CJCB
BEGIN:VEVENT
DTSTART;TZID=UTC+0:20171015T140000
DTEND;TZID=UTC+0:20171015T160000
DTSTAMP:20260422T140345
CREATED:20170925T213120Z
LAST-MODIFIED:20170925T213120Z
UID:1018-1508076000-1508083200@cjcbradio.com
SUMMARY:Sydney Curling Club Junior Registration
DESCRIPTION:Curling registration for Alpha/Junior curling (ages 7-20) will be held at the Sydney Curling Club\, 619 George Street\, Sunday\, October 15 from 2-4 p.m. Curling takes place on Mondays and Wednesdays from October until April. For more information call the club at 539-4012. \n
URL:https://cjcbradio.com/event/sydney-curling-club-junior-registration/
END:VEVENT
END:VCALENDAR