BEGIN:VCALENDAR
VERSION:2.0
PRODID:-//CJCB - ECPv4.6.26//NONSGML v1.0//EN
CALSCALE:GREGORIAN
METHOD:PUBLISH
X-WR-CALNAME:CJCB
X-ORIGINAL-URL:https://cjcbradio.com
X-WR-CALDESC:Events for CJCB
BEGIN:VEVENT
DTSTART;TZID=UTC+0:20171118T183000
DTEND;TZID=UTC+0:20171118T203000
DTSTAMP:20260420T235431
CREATED:20171031T162623Z
LAST-MODIFIED:20171031T162623Z
UID:1166-1511029800-1511037000@cjcbradio.com
SUMMARY:Sydney Mines Santa Claus Parade
DESCRIPTION:Sydney Mines Santa Claus Parade November 18th\, 2017 – 6:30 pm The Sydney Mines Santa Claus Parade will take place on Saturday\, November 18th at 6:30 pm. Entries will line up on Shore Road at 6pm. The parade will turn left into Main Street then left into MacKay Street finally turning into Holy Family Parish parking lot to disburse. Do not forget to bring your letters for Santa! Following the parade you are invited back to the upstairs of the Royal Canadian Legion\, Branch 008\, Main Street\, Sydney Mines for the presentation of awards\, hot chocolate and a visit by Santa. Hot dogs are also being provided for the children by the Royal Canadian Legion Branch 008 Ladies Auxiliary. \n
URL:https://cjcbradio.com/event/sydney-mines-santa-claus-parade/
END:VEVENT
END:VCALENDAR