BEGIN:VCALENDAR
VERSION:2.0
PRODID:-//CJCB - ECPv4.6.26//NONSGML v1.0//EN
CALSCALE:GREGORIAN
METHOD:PUBLISH
X-WR-CALNAME:CJCB
X-ORIGINAL-URL:https://cjcbradio.com
X-WR-CALDESC:Events for CJCB
BEGIN:VEVENT
DTSTART;TZID=America/Halifax:20250912T180000
DTEND;TZID=America/Halifax:20250912T200000
DTSTAMP:20260425T133851
CREATED:20250910T144948Z
LAST-MODIFIED:20250910T144948Z
UID:10381-1757700000-1757707200@cjcbradio.com
SUMMARY:Tales from the Cove: A ‘Natter’ with Lesley Crewe
DESCRIPTION:Friday\, Sept. 12\n6:30-8:00pm (doors open at 6pm)\nMcConnell Library (Sydney) \nLibrary staff are excited to host celebrated local author\, Lesley Crewe!\nJoin us for a conversation on her love of libraries and a Q&A from online questions gathered from Lesley’s dedicated readers.\nEveryone is welcome! Event from 6:30-8:00pm (doors open at 6pm).\nMingling and light refreshments to follow the Q&A.\nNATTER (definition Merriam-Webster) ~ idle talk or conversation: chat. \n
URL:https://cjcbradio.com/event/tales-from-the-cove-a-natter-with-lesley-crewe/
END:VEVENT
END:VCALENDAR