BEGIN:VCALENDAR
VERSION:2.0
PRODID:-//CJCB - ECPv4.6.26//NONSGML v1.0//EN
CALSCALE:GREGORIAN
METHOD:PUBLISH
X-WR-CALNAME:CJCB
X-ORIGINAL-URL:https://cjcbradio.com
X-WR-CALDESC:Events for CJCB
BEGIN:VEVENT
DTSTART;TZID=America/Halifax:20240505T140000
DTEND;TZID=America/Halifax:20240505T160000
DTSTAMP:20260421T070539
CREATED:20240422T122519Z
LAST-MODIFIED:20240422T122519Z
UID:9624-1714917600-1714924800@cjcbradio.com
SUMMARY:Tea and Sale
DESCRIPTION:Tea and Sale at the Sydney Forks Rec Centre\, Sunday May 5th from 2-4 pm. Admission $4.00 with a light lunch being served. \n
URL:https://cjcbradio.com/event/tea-and-sale-10/
END:VEVENT
END:VCALENDAR