BEGIN:VCALENDAR
VERSION:2.0
PRODID:-//CJCB - ECPv4.6.26//NONSGML v1.0//EN
CALSCALE:GREGORIAN
METHOD:PUBLISH
X-WR-CALNAME:CJCB
X-ORIGINAL-URL:https://cjcbradio.com
X-WR-CALDESC:Events for CJCB
BEGIN:VEVENT
DTSTART;VALUE=DATE:20250914
DTEND;VALUE=DATE:20250915
DTSTAMP:20260425T132301
CREATED:20250902T140859Z
LAST-MODIFIED:20250902T140859Z
UID:10366-1757808000-1757894399@cjcbradio.com
SUMMARY:Terry Fox Run 2025
DESCRIPTION:Terry Fox Runs in the CBRM \nNew Waterford \nThe 45th annual Terry Fox Run/Walk takes place in New Waterford on Sunday\, September 14th at the Francis MacKinnon Memorial Track on Eighth Street. Anytime between 2:00-4:00 pm participants can drop by to walk\, run\, jog\, or bike at their leisure. Donations are welcome\, but not necessary\, with all money collected going to cancer research (official tax receipts will be mailed). Refreshments provided\, with washroom facilities on site. Wheelchair accessible. Participation certificates will be issued and Terry Fox T-shirts available for purchase. This event takes place rain or shine! Anyone seeking additional information\, or wishing to make a donation to Terry’s Marathon of Hope\, please contact local co-ordinator Bobby Aucoin\, at 902-919-1823. \nGlace Bay \nWhen: Sunday\, September 14 1-4 pm\nWhere: John Bernard Croak Memorial Park on Beacon St. Glace Bay\nFree water\, Certificates\, Stickers\, bracelets for all participants. T-Shirts on sale at site. Come out and support the 45th Terry Fox Run! \n
URL:https://cjcbradio.com/event/terry-fox-run-2025/
END:VEVENT
END:VCALENDAR