BEGIN:VCALENDAR
VERSION:2.0
PRODID:-//CJCB - ECPv4.6.26//NONSGML v1.0//EN
CALSCALE:GREGORIAN
METHOD:PUBLISH
X-WR-CALNAME:CJCB
X-ORIGINAL-URL:https://cjcbradio.com
X-WR-CALDESC:Events for CJCB
BEGIN:VEVENT
DTSTART;VALUE=DATE:20250720
DTEND;VALUE=DATE:20250721
DTSTAMP:20260425T192256
CREATED:20250609T130238Z
LAST-MODIFIED:20250609T130238Z
UID:10252-1752969600-1753055999@cjcbradio.com
SUMMARY:The Big Pond Concert
DESCRIPTION:The Big Pond Concert will be held Sunday\, July 20th at 2:00 pm (outdoor venue-field behind church and fire hall). The concert is for all ages: tickets and info available at www.bigpondconcert.com or facebook/instagram @bigpondconcert \n
URL:https://cjcbradio.com/event/the-big-pond-concert/
END:VEVENT
END:VCALENDAR