BEGIN:VCALENDAR
VERSION:2.0
PRODID:-//CJCB - ECPv4.6.26//NONSGML v1.0//EN
CALSCALE:GREGORIAN
METHOD:PUBLISH
X-WR-CALNAME:CJCB
X-ORIGINAL-URL:https://cjcbradio.com
X-WR-CALDESC:Events for CJCB
BEGIN:VEVENT
DTSTART;TZID=America/Halifax:20260513T180000
DTEND;TZID=America/Halifax:20260513T190000
DTSTAMP:20260420T232010
CREATED:20260420T175635Z
LAST-MODIFIED:20260420T175635Z
UID:10712-1778695200-1778698800@cjcbradio.com
SUMMARY:Tissue Paper Flowers
DESCRIPTION:Glace Bay Library \nWed May 13   6-7pm \nMake some beautiful flowers for Spring. \n  \n
URL:https://cjcbradio.com/event/tissue-paper-flowers/
END:VEVENT
END:VCALENDAR