BEGIN:VCALENDAR
VERSION:2.0
PRODID:-//CJCB - ECPv4.6.26//NONSGML v1.0//EN
CALSCALE:GREGORIAN
METHOD:PUBLISH
X-WR-CALNAME:CJCB
X-ORIGINAL-URL:https://cjcbradio.com
X-WR-CALDESC:Events for CJCB
BEGIN:VEVENT
DTSTART;TZID=UTC+0:20170401T100000
DTEND;TZID=UTC+0:20170401T150000
DTSTAMP:20260423T114438
CREATED:20170308T182859Z
LAST-MODIFIED:20170308T182859Z
UID:322-1491040800-1491058800@cjcbradio.com
SUMMARY:Townhouse - Defensive Driving Course
DESCRIPTION:Defensive Driving: Saturday\, April 1st from at 10:00 a.m at Town House. Cost is $85. Get the “N” off your license or get up to four points deducted. Call (902) 849-2449 to register. \n
URL:https://cjcbradio.com/event/townhouse-defensive-driving-course/
END:VEVENT
END:VCALENDAR