BEGIN:VCALENDAR
VERSION:2.0
PRODID:-//CJCB - ECPv4.6.26//NONSGML v1.0//EN
CALSCALE:GREGORIAN
METHOD:PUBLISH
X-WR-CALNAME:CJCB
X-ORIGINAL-URL:https://cjcbradio.com
X-WR-CALDESC:Events for CJCB
BEGIN:VEVENT
DTSTART;TZID=UTC+0:20171219T190000
DTEND;TZID=UTC+0:20171219T203000
DTSTAMP:20260425T171711
CREATED:20171121T173955Z
LAST-MODIFIED:20171121T174054Z
UID:1264-1513710000-1513715400@cjcbradio.com
SUMMARY:Townhouse Memorial Lights
DESCRIPTION:Memorial Lights: Our 9th Annual Memorial Lights Ceremony will take place on Tuesday\, December 19th at 7:00 p.m. on the Town House property — 150 Commercial Street\, Glace Bay. Each light on our tree will represent those who have departed — parents\, partners\, siblings\, grandparents\, neighbors\, friends\, family pets\, etc. All names of those being remembered will be read aloud. To have the name of your loved one commemorated\, please bring in a minimum $5.00 donation (cash or cheque only) to Town House by Friday\, December 15th.  \n  \n
URL:https://cjcbradio.com/event/townhouse-memorial-lights/
END:VEVENT
END:VCALENDAR