BEGIN:VCALENDAR
VERSION:2.0
PRODID:-//CJCB - ECPv4.6.26//NONSGML v1.0//EN
CALSCALE:GREGORIAN
METHOD:PUBLISH
X-WR-CALNAME:CJCB
X-ORIGINAL-URL:https://cjcbradio.com
X-WR-CALDESC:Events for CJCB
BEGIN:VEVENT
DTSTART;TZID=America/Halifax:20191220T190000
DTEND;TZID=America/Halifax:20191220T210000
DTSTAMP:20260423T012324
CREATED:20191128T175257Z
LAST-MODIFIED:20191128T175257Z
UID:6079-1576868400-1576875600@cjcbradio.com
SUMMARY:Train Your Brain Games Night
DESCRIPTION:Friday\, December 20th at 7p.m. Train Your Brain continues at the Mira Centre. Meet and greet friends for some friendly competition. There is no charge\, but donations are gratefully accepted. \n
URL:https://cjcbradio.com/event/train-your-brain-games-night/
END:VEVENT
END:VCALENDAR