BEGIN:VCALENDAR
VERSION:2.0
PRODID:-//CJCB - ECPv4.6.26//NONSGML v1.0//EN
CALSCALE:GREGORIAN
METHOD:PUBLISH
X-WR-CALNAME:CJCB
X-ORIGINAL-URL:https://cjcbradio.com
X-WR-CALDESC:Events for CJCB
BEGIN:VEVENT
DTSTART;VALUE=DATE:20240722
DTEND;VALUE=DATE:20240909
DTSTAMP:20260423T084842
CREATED:20240722T172758Z
LAST-MODIFIED:20240827T173338Z
UID:9810-1721606400-1725839999@cjcbradio.com
SUMMARY:TRANSITION HOUSE FOUNDATION GOLF TOURNAMENT
DESCRIPTION:The Transition House Foundation will be hosting a Golf Tournament on September 27 at the Lingan Golf and Country Club.  Team spots are still available and start at $650 per team.  Register here.  Proceeds support Willow House. \n
URL:https://cjcbradio.com/event/transition-house-foundation-golf-tournament/
END:VEVENT
END:VCALENDAR