BEGIN:VCALENDAR
VERSION:2.0
PRODID:-//CJCB - ECPv4.6.26//NONSGML v1.0//EN
CALSCALE:GREGORIAN
METHOD:PUBLISH
X-WR-CALNAME:CJCB
X-ORIGINAL-URL:https://cjcbradio.com
X-WR-CALDESC:Events for CJCB
BEGIN:VEVENT
DTSTART;TZID=UTC+0:20170520T110000
DTEND;TZID=UTC+0:20170520T140000
DTSTAMP:20260422T171126
CREATED:20170510T152330Z
LAST-MODIFIED:20170510T152330Z
UID:642-1495278000-1495288800@cjcbradio.com
SUMMARY:Treats and Treasures Mira Seniors Center
DESCRIPTION:Treats and Treasures at Mira Seniors Center on Saturday\, May 20\, 2017 between 11 AM to 2 PM.  For just $3 you are provided with a shopping bag with pre-loved items in great condition.  A delicious lunch will also be available at minimum cost.  For more information\, please call 902-563-7419. \n
URL:https://cjcbradio.com/event/treats-and-treasures-mira-seniors-center/
END:VEVENT
END:VCALENDAR