BEGIN:VCALENDAR
VERSION:2.0
PRODID:-//CJCB - ECPv4.6.26//NONSGML v1.0//EN
CALSCALE:GREGORIAN
METHOD:PUBLISH
X-WR-CALNAME:CJCB
X-ORIGINAL-URL:https://cjcbradio.com
X-WR-CALDESC:Events for CJCB
BEGIN:VEVENT
DTSTART;TZID=America/Halifax:20241123T120000
DTEND;TZID=America/Halifax:20241123T140000
DTSTAMP:20260423T220522
CREATED:20241114T153542Z
LAST-MODIFIED:20241114T153542Z
UID:10000-1732363200-1732370400@cjcbradio.com
SUMMARY:Turkey Salad & Roll with Strawberry Shortcake
DESCRIPTION:Craft & Bake Tables\, Silent Auction Table\nSat. Nov 23rd 12-2 pm\nSt. Columba Church Hall – MARION BRIDGE\nAdults $15 & Children $7\nEat In or Take Out \n
URL:https://cjcbradio.com/event/turkey-salad-roll-with-strawberry-shortcake/
END:VEVENT
END:VCALENDAR