BEGIN:VCALENDAR
VERSION:2.0
PRODID:-//CJCB - ECPv4.6.26//NONSGML v1.0//EN
CALSCALE:GREGORIAN
METHOD:PUBLISH
X-WR-CALNAME:CJCB
X-ORIGINAL-URL:https://cjcbradio.com
X-WR-CALDESC:Events for CJCB
BEGIN:VEVENT
DTSTART;TZID=America/Halifax:20250819T140000
DTEND;TZID=America/Halifax:20250819T150000
DTSTAMP:20260425T162801
CREATED:20250623T142528Z
LAST-MODIFIED:20250623T142528Z
UID:10293-1755612000-1755615600@cjcbradio.com
SUMMARY:Tye Dye Fun
DESCRIPTION:Glace Bay Library \nTues Aug 19    2-3pm \nBring your own item to Tye Dye and have some fun with us. Registration is required. Please call 902-849-8657 or email glacebay@cbrl.ca to reserve your spot. \n
URL:https://cjcbradio.com/event/tye-dye-fun-2/
END:VEVENT
END:VCALENDAR