BEGIN:VCALENDAR
VERSION:2.0
PRODID:-//CJCB - ECPv4.6.26//NONSGML v1.0//EN
CALSCALE:GREGORIAN
METHOD:PUBLISH
X-WR-CALNAME:CJCB
X-ORIGINAL-URL:https://cjcbradio.com
X-WR-CALDESC:Events for CJCB
BEGIN:VEVENT
DTSTART;TZID=America/Halifax:20190511T183000
DTEND;TZID=America/Halifax:20190511T210000
DTSTAMP:20260422T170935
CREATED:20190408T135142Z
LAST-MODIFIED:20190408T135142Z
UID:5317-1557599400-1557608400@cjcbradio.com
SUMMARY:Ukrainian Men's Club Dinner and Auction
DESCRIPTION:Spaghetti Dinner and Auction with auctioneer Alfie Mac Leod-MLA at the Ukrainian Hall\, 49 West St\, Whitney Pier\, Sydney on May 11.2019.  SILENT AUCTION begins at 6:30-DINNER and LIVE AUCTION @7pm  Tickets are only $10.00 Call 902-574-6660 or purchase at door. \n
URL:https://cjcbradio.com/event/ukrainian-mens-club-dinner-and-auction/
END:VEVENT
END:VCALENDAR