BEGIN:VCALENDAR
VERSION:2.0
PRODID:-//CJCB - ECPv4.6.26//NONSGML v1.0//EN
CALSCALE:GREGORIAN
METHOD:PUBLISH
X-WR-CALNAME:CJCB
X-ORIGINAL-URL:https://cjcbradio.com
X-WR-CALDESC:Events for CJCB
BEGIN:VEVENT
DTSTART;TZID=America/Halifax:20250702T140000
DTEND;TZID=America/Halifax:20250702T150000
DTSTAMP:20260421T141522
CREATED:20250623T141150Z
LAST-MODIFIED:20250623T141150Z
UID:10272-1751464800-1751468400@cjcbradio.com
SUMMARY:Unicorn Party
DESCRIPTION:Glace Bay Library \nWed. July 2 \n2 – 3pm\nCome on every-pony!  Join us for a rainbow blast of fun\, games\, crafts\, and snacks at our unicorn party.  Registration Required.  Please call 902-849-8657 or email glacebay@cbrl.ca to reserve your spot. \n  \n
URL:https://cjcbradio.com/event/unicorn-party/
END:VEVENT
END:VCALENDAR