BEGIN:VCALENDAR
VERSION:2.0
PRODID:-//CJCB - ECPv4.6.26//NONSGML v1.0//EN
CALSCALE:GREGORIAN
METHOD:PUBLISH
X-WR-CALNAME:CJCB
X-ORIGINAL-URL:https://cjcbradio.com
X-WR-CALDESC:Events for CJCB
BEGIN:VEVENT
DTSTART;VALUE=DATE:20220813
DTEND;VALUE=DATE:20220814
DTSTAMP:20260422T155650
CREATED:20220722T162808Z
LAST-MODIFIED:20220722T162825Z
UID:8605-1660348800-1660435199@cjcbradio.com
SUMMARY:United Way Colour Run/Walk
DESCRIPTION:United Way Colour Run/Walk: August 13th @12pm in Open Hearth Park. While you run or walk the track\, there will be coloured powder thrown on you to change your white shirt into a colourful one. This powder is non toxic to humans and can be washed off\, but it may harm your pets if you bring them along. This run/walk is for all ages. This is a non-competitive run/walk\, but you may choose to do more laps. You can purchase a runner pack for $15\, which includes your own bag of coloured powder to throw and sunglasses to protect your eyes. For more information\, please email unitedwaycb@gmail.com. \n
URL:https://cjcbradio.com/event/united-way-colour-run-walk/
END:VEVENT
END:VCALENDAR