BEGIN:VCALENDAR
VERSION:2.0
PRODID:-//CJCB - ECPv4.6.26//NONSGML v1.0//EN
CALSCALE:GREGORIAN
METHOD:PUBLISH
X-WR-CALNAME:CJCB
X-ORIGINAL-URL:https://cjcbradio.com
X-WR-CALDESC:Events for CJCB
BEGIN:VEVENT
DTSTART;TZID=UTC+0:20170513T090000
DTEND;TZID=UTC+0:20170513T130000
DTSTAMP:20260423T051712
CREATED:20170420T165321Z
LAST-MODIFIED:20170420T165321Z
UID:545-1494666000-1494680400@cjcbradio.com
SUMMARY:Vendor\, Craft and Treasure Sale
DESCRIPTION:A Vendor\, Craft & Treasure Sale is being held at the Glace Bay Fire Hall on May 13th from 9:00am – 1:00pm. Tables are $20 for the first one $15 for the second! We are looking for vendors and crafters of all kinds! If you have some treasures to sell we want you too! Remember\, one man’s trash is another’s treasure! This event is a fundraiser for a wonderful community volunteer\, Joseph Boozan\, who is in need of a scooter to help him get around. To book a table call 902-549-6085 \n
URL:https://cjcbradio.com/event/vendor-craft-and-treasure-sale/
END:VEVENT
END:VCALENDAR